BEGIN:VCALENDAR
VERSION:2.0
PRODID:-//Sunraysia Community Health Services - ECPv4.6.7//NONSGML v1.0//EN
CALSCALE:GREGORIAN
METHOD:PUBLISH
X-WR-CALNAME:Sunraysia Community Health Services
X-ORIGINAL-URL:https://www.schs.com.au
X-WR-CALDESC:Events for Sunraysia Community Health Services
BEGIN:VEVENT
DTSTART;TZID=UTC+0:20200410T110000
DTEND;TZID=UTC+0:20200410T150000
DTSTAMP:20200229T161425
CREATED:20200210T032919Z
LAST-MODIFIED:20200210T032919Z
UID:4915-1586516400-1586530800@www.schs.com.au
SUMMARY:Easter Appeal community picnic
DESCRIPTION:The SCHS Easter Appeal and Community Picnic is an annual community fundraising event hosted by Sunraysia Community Health Services with the aim to raise funds to make more facilities and services available to improve the health outcomes of our local community.   \nIn 2018\, Hands Up Mallee undertook community consultation regarding local provision of services for parents and carers.  Response from the community supported our vision and drive for collaborative parent support services and we are thrilled to announce that in November 2019 we opened The Family & Child Hub in Pine Avenue\, Mildura.   \nAt our new location\, we will provide a range of coordinated services and activities for families across Sunraysia.  The Family & Child hub is a place where parents and carers of children can drop in for a coffee and a play\, with direct access to a range of services they may need\, all in one location.   \nBy supporting this event\, you will actively contribute to helping our community be a place where everyone can be their best\, where children have a great start to life and can learn so that they thrive\, where families are healthy\, safe and feel like they belong.  Funds raised through the Easter Appeal and Community Picnic will support the continuation and expansion of this service to meet the needs of our growing community.   \n
URL:https://www.schs.com.au/event/easter-appeal-community-picnic
LOCATION:Hugh King Drive\, Mildura\, VIC\, Australia
END:VEVENT
END:VCALENDAR